Package: SpotClean Version: 1.10.0 Command: /home/biocbuild/bbs-3.21-bioc/R/bin/R CMD check --install=check:SpotClean.install-out.txt --library=/home/biocbuild/bbs-3.21-bioc/R/site-library --timings SpotClean_1.10.0.tar.gz StartedAt: 2025-10-16 04:02:23 -0400 (Thu, 16 Oct 2025) EndedAt: 2025-10-16 04:16:40 -0400 (Thu, 16 Oct 2025) EllapsedTime: 857.0 seconds RetCode: 0 Status: OK CheckDir: SpotClean.Rcheck Warnings: 0