Package: SplineDV Version: 1.0.0 Command: /home/biocbuild/bbs-3.21-bioc/R/bin/R CMD check --install=check:SplineDV.install-out.txt --library=/home/biocbuild/bbs-3.21-bioc/R/site-library --timings SplineDV_1.0.0.tar.gz StartedAt: 2025-10-16 04:00:41 -0400 (Thu, 16 Oct 2025) EndedAt: 2025-10-16 04:06:44 -0400 (Thu, 16 Oct 2025) EllapsedTime: 363.4 seconds RetCode: 0 Status: OK CheckDir: SplineDV.Rcheck Warnings: 0