Package: SplineDV Version: 1.0.0 Command: /home/biocbuild/R/R/bin/R CMD check --install=check:SplineDV.install-out.txt --library=/home/biocbuild/R/R/site-library --no-vignettes --timings SplineDV_1.0.0.tar.gz StartedAt: 2025-10-14 14:48:06 -0000 (Tue, 14 Oct 2025) EndedAt: 2025-10-14 14:53:29 -0000 (Tue, 14 Oct 2025) EllapsedTime: 323.4 seconds RetCode: 0 Status: OK CheckDir: SplineDV.Rcheck Warnings: 0