Package: SplineDV Version: 1.0.0 Command: /home/biocbuild/R/R/bin/R CMD build --keep-empty-dirs --no-resave-data SplineDV StartedAt: 2025-10-14 05:02:49 -0000 (Tue, 14 Oct 2025) EndedAt: 2025-10-14 05:07:03 -0000 (Tue, 14 Oct 2025) EllapsedTime: 254.1 seconds RetCode: 0 Status: OK PackageFile: SplineDV_1.0.0.tar.gz PackageFileSize: 2.962 MiB