Package: SplineDV Version: 1.0.0 Command: /Library/Frameworks/R.framework/Resources/bin/R CMD build --keep-empty-dirs --no-resave-data SplineDV StartedAt: 2025-04-21 17:46:09 -0400 (Mon, 21 Apr 2025) EndedAt: 2025-04-21 17:47:38 -0400 (Mon, 21 Apr 2025) EllapsedTime: 89.0 seconds RetCode: 0 Status: OK PackageFile: SplineDV_1.0.0.tar.gz PackageFileSize: 2.377 MiB