Package: SpliceWiz Version: 1.10.1 Command: E:\biocbuild\bbs-3.21-bioc\R\bin\R.exe CMD check --no-multiarch --install=check:SpliceWiz.install-out.txt --library=E:\biocbuild\bbs-3.21-bioc\R\library --no-vignettes --timings SpliceWiz_1.10.1.tar.gz StartedAt: 2025-08-15 07:21:29 -0400 (Fri, 15 Aug 2025) EndedAt: 2025-08-15 07:38:42 -0400 (Fri, 15 Aug 2025) EllapsedTime: 1033.6 seconds RetCode: 0 Status: OK CheckDir: SpliceWiz.Rcheck Warnings: 0