Package: SpectraQL Version: 1.2.1 Command: E:\biocbuild\bbs-3.21-bioc\R\bin\R.exe CMD check --no-multiarch --install=check:SpectraQL.install-out.txt --library=E:\biocbuild\bbs-3.21-bioc\R\library --no-vignettes --timings SpectraQL_1.2.1.tar.gz StartedAt: 2025-08-15 07:18:03 -0400 (Fri, 15 Aug 2025) EndedAt: 2025-08-15 07:20:07 -0400 (Fri, 15 Aug 2025) EllapsedTime: 123.7 seconds RetCode: 0 Status: OK CheckDir: SpectraQL.Rcheck Warnings: 0