Package: Spectra Version: 1.18.2 Command: rm -rf Spectra.buildbin-libdir && mkdir Spectra.buildbin-libdir && E:\biocbuild\bbs-3.21-bioc\R\bin\R.exe CMD INSTALL --build --library=Spectra.buildbin-libdir Spectra_1.18.2.tar.gz StartedAt: 2025-08-15 10:23:07 -0400 (Fri, 15 Aug 2025) EndedAt: 2025-08-15 10:24:36 -0400 (Fri, 15 Aug 2025) EllapsedTime: 88.9 seconds RetCode: 0 Status: OK PackageFile: Spectra_1.18.2.zip PackageFileSize: 2.007 MiB