Package: Spectra Version: 1.18.2 Command: /home/biocbuild/bbs-3.21-bioc/R/bin/R CMD check --install=check:Spectra.install-out.txt --library=/home/biocbuild/bbs-3.21-bioc/R/site-library --timings Spectra_1.18.2.tar.gz StartedAt: 2025-10-16 03:57:46 -0400 (Thu, 16 Oct 2025) EndedAt: 2025-10-16 04:06:12 -0400 (Thu, 16 Oct 2025) EllapsedTime: 506.7 seconds RetCode: 0 Status: OK CheckDir: Spectra.Rcheck Warnings: 0