Package: Spectra Version: 1.18.2 Command: /Library/Frameworks/R.framework/Resources/bin/R CMD INSTALL Spectra StartedAt: 2025-10-13 15:25:39 -0400 (Mon, 13 Oct 2025) EndedAt: 2025-10-13 15:26:28 -0400 (Mon, 13 Oct 2025) EllapsedTime: 48.8 seconds RetCode: 0 Status: OK