Package: Spectra Version: 1.18.2 Command: /home/biocbuild/R/R/bin/R CMD INSTALL Spectra StartedAt: 2025-10-13 20:26:28 -0000 (Mon, 13 Oct 2025) EndedAt: 2025-10-13 20:26:53 -0000 (Mon, 13 Oct 2025) EllapsedTime: 25.1 seconds RetCode: 0 Status: OK