Package: Spectra Version: 1.18.2 Command: /home/biocbuild/R/R/bin/R CMD check --install=check:Spectra.install-out.txt --library=/home/biocbuild/R/R/site-library --no-vignettes --timings Spectra_1.18.2.tar.gz StartedAt: 2025-10-14 14:43:00 -0000 (Tue, 14 Oct 2025) EndedAt: 2025-10-14 14:55:21 -0000 (Tue, 14 Oct 2025) EllapsedTime: 741.0 seconds RetCode: 0 Status: OK CheckDir: Spectra.Rcheck Warnings: 0