Package: Spectra Version: 1.18.2 Command: /home/biocbuild/R/R/bin/R CMD build --keep-empty-dirs --no-resave-data Spectra StartedAt: 2025-10-14 05:00:18 -0000 (Tue, 14 Oct 2025) EndedAt: 2025-10-14 05:01:33 -0000 (Tue, 14 Oct 2025) EllapsedTime: 75.0 seconds RetCode: 0 Status: OK PackageFile: Spectra_1.18.2.tar.gz PackageFileSize: 1.705 MiB