Package: Spectra Version: 1.18.2 Command: /Library/Frameworks/R.framework/Resources/bin/R CMD check --install=check:Spectra.install-out.txt --library=/Library/Frameworks/R.framework/Resources/library --no-vignettes --timings Spectra_1.18.2.tar.gz StartedAt: 2025-10-15 13:50:21 -0400 (Wed, 15 Oct 2025) EndedAt: 2025-10-15 14:00:20 -0400 (Wed, 15 Oct 2025) EllapsedTime: 599.2 seconds RetCode: 0 Status: OK CheckDir: Spectra.Rcheck Warnings: 0