Package: Spectra Version: 1.18.2 Maintainer: RforMassSpectrometry Package Maintainer MaintainerEmail: maintainer at rformassspectrometry.org git_url: https://git.bioconductor.org/packages/Spectra git_branch: RELEASE_3_21 git_last_commit: 4d6a810 git_last_commit_date: 2025-05-20 00:53:57 -0400 (Tue, 20 May 2025)