Package: SpeCond Version: 1.62.0 Command: E:\biocbuild\bbs-3.21-bioc\R\bin\R.exe CMD INSTALL SpeCond StartedAt: 2025-08-14 15:43:21 -0400 (Thu, 14 Aug 2025) EndedAt: 2025-08-14 15:43:42 -0400 (Thu, 14 Aug 2025) EllapsedTime: 21.7 seconds RetCode: 0 Status: OK