Package: SpatialOmicsOverlay Version: 1.8.0 Command: /Library/Frameworks/R.framework/Resources/bin/R CMD INSTALL SpatialOmicsOverlay StartedAt: 2025-09-29 15:27:31 -0400 (Mon, 29 Sep 2025) EndedAt: 2025-09-29 15:28:46 -0400 (Mon, 29 Sep 2025) EllapsedTime: 74.4 seconds RetCode: 0 Status: OK