Package: SpatialOmicsOverlay Version: 1.8.0 Command: /Library/Frameworks/R.framework/Resources/bin/R CMD build --keep-empty-dirs --no-resave-data SpatialOmicsOverlay StartedAt: 2025-09-29 22:53:21 -0400 (Mon, 29 Sep 2025) EndedAt: 2025-09-29 23:11:25 -0400 (Mon, 29 Sep 2025) EllapsedTime: 1084.3 seconds RetCode: 0 Status: OK PackageFile: SpatialOmicsOverlay_1.8.0.tar.gz PackageFileSize: 4.497 MiB