Package: SpatialExperimentIO Version: 1.0.0 Command: E:\biocbuild\bbs-3.21-bioc\R\bin\R.exe CMD check --no-multiarch --install=check:SpatialExperimentIO.install-out.txt --library=E:\biocbuild\bbs-3.21-bioc\R\library --no-vignettes --timings SpatialExperimentIO_1.0.0.tar.gz StartedAt: 2025-08-15 07:13:20 -0400 (Fri, 15 Aug 2025) EndedAt: 2025-08-15 07:17:59 -0400 (Fri, 15 Aug 2025) EllapsedTime: 279.2 seconds RetCode: 0 Status: OK CheckDir: SpatialExperimentIO.Rcheck Warnings: 0