Package: SpatialExperiment Version: 1.18.1 Command: /Library/Frameworks/R.framework/Resources/bin/R CMD INSTALL SpatialExperiment StartedAt: 2025-10-13 16:12:47 -0400 (Mon, 13 Oct 2025) EndedAt: 2025-10-13 16:13:18 -0400 (Mon, 13 Oct 2025) EllapsedTime: 30.6 seconds RetCode: 0 Status: OK