Package: SpatialExperiment Version: 1.18.1 Command: /Library/Frameworks/R.framework/Resources/bin/R CMD build --keep-empty-dirs --no-resave-data SpatialExperiment StartedAt: 2025-10-14 10:04:43 -0400 (Tue, 14 Oct 2025) EndedAt: 2025-10-14 10:06:02 -0400 (Tue, 14 Oct 2025) EllapsedTime: 79.7 seconds RetCode: 0 Status: OK PackageFile: SpatialExperiment_1.18.1.tar.gz PackageFileSize: 5.689 MiB