Package: SparseSignatures Version: 2.18.0 Command: /home/biocbuild/bbs-3.21-bioc/R/bin/R CMD INSTALL SparseSignatures StartedAt: 2025-10-15 15:27:45 -0400 (Wed, 15 Oct 2025) EndedAt: 2025-10-15 15:28:25 -0400 (Wed, 15 Oct 2025) EllapsedTime: 39.5 seconds RetCode: 0 Status: OK