Package: SparseSignatures Version: 2.18.0 Command: /home/biocbuild/bbs-3.21-bioc/R/bin/R CMD check --install=check:SparseSignatures.install-out.txt --library=/home/biocbuild/bbs-3.21-bioc/R/site-library --timings SparseSignatures_2.18.0.tar.gz StartedAt: 2025-10-16 03:51:21 -0400 (Thu, 16 Oct 2025) EndedAt: 2025-10-16 04:02:56 -0400 (Thu, 16 Oct 2025) EllapsedTime: 694.8 seconds RetCode: 0 Status: OK CheckDir: SparseSignatures.Rcheck Warnings: 0