Package: SparseSignatures Version: 2.18.0 Command: /Library/Frameworks/R.framework/Resources/bin/R CMD check --install=check:SparseSignatures.install-out.txt --library=/Library/Frameworks/R.framework/Resources/library --no-vignettes --timings SparseSignatures_2.18.0.tar.gz StartedAt: 2025-10-14 10:46:07 -0400 (Tue, 14 Oct 2025) EndedAt: 2025-10-14 11:14:24 -0400 (Tue, 14 Oct 2025) EllapsedTime: 1697.4 seconds RetCode: 0 Status: OK CheckDir: SparseSignatures.Rcheck Warnings: 0