Package: SparseSignatures Version: 2.18.0 Command: /home/biocbuild/R/R/bin/R CMD build --keep-empty-dirs --no-resave-data SparseSignatures StartedAt: 2025-10-14 04:55:43 -0000 (Tue, 14 Oct 2025) EndedAt: 2025-10-14 05:02:04 -0000 (Tue, 14 Oct 2025) EllapsedTime: 380.2 seconds RetCode: 0 Status: OK PackageFile: SparseSignatures_2.18.0.tar.gz PackageFileSize: 1.577 MiB