Package: SparseSignatures Version: 2.18.0 Command: /Library/Frameworks/R.framework/Resources/bin/R CMD check --install=check:SparseSignatures.install-out.txt --library=/Library/Frameworks/R.framework/Resources/library --no-vignettes --timings SparseSignatures_2.18.0.tar.gz StartedAt: 2025-10-15 13:30:00 -0400 (Wed, 15 Oct 2025) EndedAt: 2025-10-15 13:46:40 -0400 (Wed, 15 Oct 2025) EllapsedTime: 1000.0 seconds RetCode: 0 Status: OK CheckDir: SparseSignatures.Rcheck Warnings: 0