Package: SparseSignatures Version: 2.18.0 Command: rm -rf SparseSignatures.buildbin-libdir && mkdir SparseSignatures.buildbin-libdir && /Users/biocbuild/BBS/utils/build-universal.sh SparseSignatures_2.18.0.tar.gz /Library/Frameworks/R.framework/Resources/bin/R SparseSignatures.buildbin-libdir StartedAt: 2025-10-15 20:38:11 -0400 (Wed, 15 Oct 2025) EndedAt: 2025-10-15 20:39:02 -0400 (Wed, 15 Oct 2025) EllapsedTime: 51.2 seconds RetCode: 0 Status: OK PackageFile: SparseSignatures_2.18.0.tgz PackageFileSize: 1.59 MiB