Package: SpacePAC Version: 1.46.0 Command: chmod a+r SpacePAC -R && E:\biocbuild\bbs-3.21-bioc\R\bin\R.exe CMD build --keep-empty-dirs --no-resave-data SpacePAC StartedAt: 2025-08-14 22:22:09 -0400 (Thu, 14 Aug 2025) EndedAt: 2025-08-14 22:23:26 -0400 (Thu, 14 Aug 2025) EllapsedTime: 77.4 seconds RetCode: 0 Status: OK PackageFile: SpacePAC_1.46.0.tar.gz PackageFileSize: 1.699 MiB