Package: SpacePAC Version: 1.46.0 Command: /Library/Frameworks/R.framework/Resources/bin/R CMD build --keep-empty-dirs --no-resave-data SpacePAC StartedAt: 2025-10-13 22:49:46 -0400 (Mon, 13 Oct 2025) EndedAt: 2025-10-13 22:52:02 -0400 (Mon, 13 Oct 2025) EllapsedTime: 135.9 seconds RetCode: 0 Status: OK PackageFile: SpacePAC_1.46.0.tar.gz PackageFileSize: 1.889 MiB