Package: SpacePAC Version: 1.46.0 Command: rm -rf SpacePAC.buildbin-libdir && mkdir SpacePAC.buildbin-libdir && /Users/biocbuild/BBS/utils/build-universal.sh SpacePAC_1.46.0.tar.gz /Library/Frameworks/R.framework/Resources/bin/R SpacePAC.buildbin-libdir StartedAt: 2025-10-14 14:50:38 -0400 (Tue, 14 Oct 2025) EndedAt: 2025-10-14 14:51:13 -0400 (Tue, 14 Oct 2025) EllapsedTime: 35.6 seconds RetCode: 0 Status: OK PackageFile: SpacePAC_1.46.0.tgz PackageFileSize: 1.183 MiB