Package: SpacePAC Version: 1.46.0 Command: /Library/Frameworks/R.framework/Resources/bin/R CMD INSTALL SpacePAC StartedAt: 2025-09-29 18:13:23 -0400 (Mon, 29 Sep 2025) EndedAt: 2025-09-29 18:13:39 -0400 (Mon, 29 Sep 2025) EllapsedTime: 16.3 seconds RetCode: 0 Status: OK