Package: SpacePAC Version: 1.46.0 Command: /Library/Frameworks/R.framework/Resources/bin/R CMD check --install=check:SpacePAC.install-out.txt --library=/Library/Frameworks/R.framework/Resources/library --no-vignettes --timings SpacePAC_1.46.0.tar.gz StartedAt: 2025-10-01 13:24:37 -0400 (Wed, 01 Oct 2025) EndedAt: 2025-10-01 13:26:41 -0400 (Wed, 01 Oct 2025) EllapsedTime: 124.1 seconds RetCode: 0 Status: OK CheckDir: SpacePAC.Rcheck Warnings: 0