Package: SpacePAC Version: 1.46.0 Command: /Library/Frameworks/R.framework/Resources/bin/R CMD build --keep-empty-dirs --no-resave-data SpacePAC StartedAt: 2025-09-30 09:49:52 -0400 (Tue, 30 Sep 2025) EndedAt: 2025-09-30 09:50:59 -0400 (Tue, 30 Sep 2025) EllapsedTime: 66.8 seconds RetCode: 0 Status: OK PackageFile: SpacePAC_1.46.0.tar.gz PackageFileSize: 1.89 MiB