Package: SpacePAC Version: 1.46.0 Command: rm -rf SpacePAC.buildbin-libdir && mkdir SpacePAC.buildbin-libdir && /Users/biocbuild/BBS/utils/build-universal.sh SpacePAC_1.46.0.tar.gz /Library/Frameworks/R.framework/Resources/bin/R SpacePAC.buildbin-libdir StartedAt: 2025-10-01 20:36:51 -0400 (Wed, 01 Oct 2025) EndedAt: 2025-10-01 20:37:10 -0400 (Wed, 01 Oct 2025) EllapsedTime: 19.2 seconds RetCode: 0 Status: OK PackageFile: SpacePAC_1.46.0.tgz PackageFileSize: 1.185 MiB