Package: SpaceMarkers Version: 1.4.0 Command: /home/biocbuild/bbs-3.21-bioc/R/bin/R CMD build --keep-empty-dirs --no-resave-data SpaceMarkers StartedAt: 2025-10-05 20:01:57 -0400 (Sun, 05 Oct 2025) EndedAt: 2025-10-05 20:05:42 -0400 (Sun, 05 Oct 2025) EllapsedTime: 225.1 seconds RetCode: 0 Status: OK PackageFile: SpaceMarkers_1.4.0.tar.gz PackageFileSize: 2.797 MiB