Package: SpaceMarkers Version: 1.4.0 Command: rm -rf SpaceMarkers.buildbin-libdir && mkdir SpaceMarkers.buildbin-libdir && /Users/biocbuild/BBS/utils/build-universal.sh SpaceMarkers_1.4.0.tar.gz /Library/Frameworks/R.framework/Resources/bin/R SpaceMarkers.buildbin-libdir StartedAt: 2025-10-03 14:37:54 -0400 (Fri, 03 Oct 2025) EndedAt: 2025-10-03 14:38:31 -0400 (Fri, 03 Oct 2025) EllapsedTime: 36.1 seconds RetCode: 0 Status: OK PackageFile: SpaceMarkers_1.4.0.tgz PackageFileSize: 3.075 MiB