Package: SpaceMarkers Version: 1.4.0 Command: /home/biocbuild/R/R/bin/R CMD build --keep-empty-dirs --no-resave-data SpaceMarkers StartedAt: 2025-10-03 04:47:34 -0000 (Fri, 03 Oct 2025) EndedAt: 2025-10-03 04:53:15 -0000 (Fri, 03 Oct 2025) EllapsedTime: 341.1 seconds RetCode: 0 Status: OK PackageFile: SpaceMarkers_1.4.0.tar.gz PackageFileSize: 2.838 MiB