Package: SpaceMarkers Version: 1.4.0 Command: rm -rf SpaceMarkers.buildbin-libdir && mkdir SpaceMarkers.buildbin-libdir && /Users/biocbuild/BBS/utils/build-universal.sh SpaceMarkers_1.4.0.tar.gz /Library/Frameworks/R.framework/Resources/bin/R SpaceMarkers.buildbin-libdir StartedAt: 2025-04-21 22:53:23 -0400 (Mon, 21 Apr 2025) EndedAt: 2025-04-21 22:53:28 -0400 (Mon, 21 Apr 2025) EllapsedTime: 5.1 seconds RetCode: 0 Status: OK PackageFile: SpaceMarkers_1.4.0.tgz PackageFileSize: 3.06 MiB