Package: SpaceMarkers Version: 1.4.0 Command: /Library/Frameworks/R.framework/Resources/bin/R CMD check --install=check:SpaceMarkers.install-out.txt --library=/Library/Frameworks/R.framework/Resources/library --no-vignettes --timings SpaceMarkers_1.4.0.tar.gz StartedAt: 2025-10-04 12:50:19 -0400 (Sat, 04 Oct 2025) EndedAt: 2025-10-04 13:02:32 -0400 (Sat, 04 Oct 2025) EllapsedTime: 733.0 seconds RetCode: 0 Status: OK CheckDir: SpaceMarkers.Rcheck Warnings: 0