Package: SpaceMarkers Version: 1.4.0 Command: rm -rf SpaceMarkers.buildbin-libdir && mkdir SpaceMarkers.buildbin-libdir && /Users/biocbuild/BBS/utils/build-universal.sh SpaceMarkers_1.4.0.tar.gz /Library/Frameworks/R.framework/Resources/bin/R SpaceMarkers.buildbin-libdir StartedAt: 2025-10-04 20:05:48 -0400 (Sat, 04 Oct 2025) EndedAt: 2025-10-04 20:06:04 -0400 (Sat, 04 Oct 2025) EllapsedTime: 16.6 seconds RetCode: 0 Status: OK PackageFile: SpaceMarkers_1.4.0.tgz PackageFileSize: 3.074 MiB