Package: SpaNorm Version: 1.2.0 Command: E:\biocbuild\bbs-3.21-bioc\R\bin\R.exe CMD check --no-multiarch --install=check:SpaNorm.install-out.txt --library=E:\biocbuild\bbs-3.21-bioc\R\library --no-vignettes --timings SpaNorm_1.2.0.tar.gz StartedAt: 2025-08-15 07:09:45 -0400 (Fri, 15 Aug 2025) EndedAt: 2025-08-15 07:12:17 -0400 (Fri, 15 Aug 2025) EllapsedTime: 152.1 seconds RetCode: 0 Status: OK CheckDir: SpaNorm.Rcheck Warnings: 0