Package: SpaNorm Version: 1.2.0 Command: /home/biocbuild/bbs-3.21-bioc/R/bin/R CMD check --install=check:SpaNorm.install-out.txt --library=/home/biocbuild/bbs-3.21-bioc/R/site-library --timings SpaNorm_1.2.0.tar.gz StartedAt: 2025-10-16 03:50:01 -0400 (Thu, 16 Oct 2025) EndedAt: 2025-10-16 03:58:24 -0400 (Thu, 16 Oct 2025) EllapsedTime: 502.5 seconds RetCode: 0 Status: OK CheckDir: SpaNorm.Rcheck Warnings: 0