Package: SpaNorm Version: 1.2.0 Command: /Library/Frameworks/R.framework/Resources/bin/R CMD check --install=check:SpaNorm.install-out.txt --library=/Library/Frameworks/R.framework/Resources/library --no-vignettes --timings SpaNorm_1.2.0.tar.gz StartedAt: 2025-10-14 10:44:15 -0400 (Tue, 14 Oct 2025) EndedAt: 2025-10-14 10:48:27 -0400 (Tue, 14 Oct 2025) EllapsedTime: 252.8 seconds RetCode: 0 Status: OK CheckDir: SpaNorm.Rcheck Warnings: 0