Package: SpaNorm Version: 1.2.0 Command: rm -rf SpaNorm.buildbin-libdir && mkdir SpaNorm.buildbin-libdir && /Users/biocbuild/BBS/utils/build-universal.sh SpaNorm_1.2.0.tar.gz /Library/Frameworks/R.framework/Resources/bin/R SpaNorm.buildbin-libdir StartedAt: 2025-10-14 14:50:52 -0400 (Tue, 14 Oct 2025) EndedAt: 2025-10-14 14:51:03 -0400 (Tue, 14 Oct 2025) EllapsedTime: 10.9 seconds RetCode: 0 Status: OK PackageFile: SpaNorm_1.2.0.tgz PackageFileSize: 6.993 MiB