Package: SpaNorm Version: 1.2.0 Command: /home/biocbuild/R/R/bin/R CMD check --install=check:SpaNorm.install-out.txt --library=/home/biocbuild/R/R/site-library --no-vignettes --timings SpaNorm_1.2.0.tar.gz StartedAt: 2025-10-14 14:33:59 -0000 (Tue, 14 Oct 2025) EndedAt: 2025-10-14 14:36:53 -0000 (Tue, 14 Oct 2025) EllapsedTime: 174.2 seconds RetCode: 0 Status: OK CheckDir: SpaNorm.Rcheck Warnings: 0