Package: Site2Target Version: 1.0.0 Command: /home/biocbuild/bbs-3.21-bioc/R/bin/R CMD INSTALL Site2Target StartedAt: 2025-10-01 15:18:43 -0400 (Wed, 01 Oct 2025) EndedAt: 2025-10-01 15:18:46 -0400 (Wed, 01 Oct 2025) EllapsedTime: 3.0 seconds RetCode: 0 Status: OK