Package: Site2Target Version: 1.0.0 Command: /Library/Frameworks/R.framework/Resources/bin/R CMD build --keep-empty-dirs --no-resave-data Site2Target StartedAt: 2025-10-06 22:43:58 -0400 (Mon, 06 Oct 2025) EndedAt: 2025-10-06 22:45:07 -0400 (Mon, 06 Oct 2025) EllapsedTime: 69.2 seconds RetCode: 0 Status: OK PackageFile: Site2Target_1.0.0.tar.gz PackageFileSize: 441.6 KiB