Package: Site2Target Version: 1.0.0 Command: /Library/Frameworks/R.framework/Resources/bin/R CMD build --keep-empty-dirs --no-resave-data Site2Target StartedAt: 2025-04-21 18:30:06 -0400 (Mon, 21 Apr 2025) EndedAt: 2025-04-21 18:30:44 -0400 (Mon, 21 Apr 2025) EllapsedTime: 37.7 seconds RetCode: 0 Status: OK PackageFile: Site2Target_1.0.0.tar.gz PackageFileSize: 441.6 KiB