Package: Site2Target Version: 1.0.0 Command: /home/biocbuild/R/R/bin/R CMD build --keep-empty-dirs --no-resave-data Site2Target StartedAt: 2025-09-30 05:22:53 -0000 (Tue, 30 Sep 2025) EndedAt: 2025-09-30 05:23:36 -0000 (Tue, 30 Sep 2025) EllapsedTime: 43.1 seconds RetCode: 0 Status: OK PackageFile: Site2Target_1.0.0.tar.gz PackageFileSize: 469.1 KiB