Package: Site2Target Version: 1.0.0 Command: /Library/Frameworks/R.framework/Resources/bin/R CMD INSTALL Site2Target StartedAt: 2025-04-21 15:10:40 -0400 (Mon, 21 Apr 2025) EndedAt: 2025-04-21 15:10:42 -0400 (Mon, 21 Apr 2025) EllapsedTime: 1.3 seconds RetCode: 0 Status: OK